Workbook

Sheet Financial Plan
D3: Financial Plan
B7: I | C7: Investments
B9: II | C9: Financing
B11: III | C11: Revenue and variable costs
B13: IV | C13: Fix costs
B15: V | C15: Disallowed expenses
B17: VI | C17: Income statement
B19: VII | C19: Taxes
B21: VIII | C21: Break-even turnover
B23: IX | C23: Dashboard
B25: X | C25: Cash Flow Statement
B27: XI | C27: Taxes Break-Even Point

Sheet I) Investments
A1: I) INVESTMENTS
A3: Year 1
A4: Category | B4: Description | C4: Amount (excl. VAT) | D4: # years | E4: % Depreciation | F4: Depreciation year 1
A5: Intangible assets | D5: 3 | E5: =100%/D5 -> 0.33333333 | F5: =C5*E5 -> 0
A6: Purchase of buildings | D6: 33 | E6: =100%/D6 -> 0.03030303 | F6: =C6*E6 -> 0
A7: Building fit-out | D7: 10 | E7: =100%/D7 -> 0.1 | F7: =C7*E7 -> 0
A8: Machines and equipment | D8: 5 | E8: =100%/D8 -> 0.2 | F8: =C8*E8 -> 0
A9: Furniture | D9: 5 | E9: =100%/D9 -> 0.2 | F9: =C9*E9 -> 0
A10: Tools and small hardware | D10: 3 | E10: =100%/D10 -> 0.33333333 | F10: =C10*E10 -> 0
A11: Hardware and software | D11: 3 | E11: =100%/D11 -> 0.33333333 | F11: =C11*E11 -> 0
A12: Rolling stock | D12: 5 | E12: =100%/D12 -> 0.2 | F12: =C12*E12 -> 0
A13: Personal contribution in kind | D13: 5 | E13: =100%/D13 -> 0.2 | F13: =C13*E13 -> 0
A14: Total investments to be financed at start-up | C14: =SUM(C5:C13) -> 0 | F14: =SUM(F5:F13) -> 0
A17: Year 2
A18: Category | B18: Description | C18: Amount (excl. VAT) | D18: # years | E18: % Depreciation | F18: Depreciation year 2 | G18: Depreciation year 1 | H18: Total annual depreciation
A19: Intangible assets | C19: 0 | D19: =D5 -> 3 | E19: =100%/D19 -> 0.33333333 | F19: =C19*E19 -> 0 | G19: =F5 -> 0 | H19: =F19+G19 -> 0
A20: Purchase of buildings | C20: 0 | D20: =D6 -> 33 | E20: =100%/D20 -> 0.03030303 | F20: =C20*E20 -> 0 | G20: =F6 -> 0 | H20: =F20+G20 -> 0
A21: Building fit-out | C21: 0 | D21: =D7 -> 10 | E21: =100%/D21 -> 0.1 | F21: =C21*E21 -> 0 | G21: =F7 -> 0 | H21: =F21+G21 -> 0
A22: Machines and equipment | C22: 0 | D22: =D8 -> 5 | E22: =100%/D22 -> 0.2 | F22: =C22*E22 -> 0 | G22: =F8 -> 0 | H22: =F22+G22 -> 0
A23: Furniture | C23: 0 | D23: =D9 -> 5 | E23: =100%/D23 -> 0.2 | F23: =C23*E23 -> 0 | G23: =F9 -> 0 | H23: =F23+G23 -> 0
A24: Tools and small hardware | C24: 0 | D24: =D10 -> 3 | E24: =100%/D24 -> 0.33333333 | F24: =C24*E24 -> 0 | G24: =F10 -> 0 | H24: =F24+G24 -> 0
A25: Hardware and software | C25: 0 | D25: =D11 -> 3 | E25: =100%/D25 -> 0.33333333 | F25: =C25*E25 -> 0 | G25: =F11 -> 0 | H25: =F25+G25 -> 0
A26: Rolling stock | C26: 0 | D26: =D12 -> 5 | E26: =100%/D26 -> 0.2 | F26: =C26*E26 -> 0 | G26: =F12 -> 0 | H26: =F26+G26 -> 0
A27: Personal contribution in kind | C27: 0 | D27: 5 | E27: =100%/D27 -> 0.2 | F27: =C27*E27 -> 0 | G27: =F13 -> 0 | H27: =F27+G27 -> 0
A28: Total investments to be financed in year 2 | C28: =SUM(C19:C27) -> 0 | F28: =SUM(F19:F27) -> 0 | G28: =F14 -> 0 | H28: =F28+G28 -> 0
A32: OTHER START-UP COSTS
A34: Other startup costs to be financed | B34: Amount (excl. VAT)
A35: Formation costs
A36: Rental deposit (no VAT)
A37: Stock
A38: Bank (current account) – treasury
A39: Cash (till)
A40: VAT to be pre-financed | B40: =(C14-C13)*0.21+B37*0.21 -> 0
A41: Other startup costs to be financed | B41: =SUM(B35:B40) -> 0
N162: Kleding
B475: > Belettering wagen (in latere fase)
B477: > Gevel identificatie (in latere fase)

Sheet II) Financing
A1: II) FINANCING
A3: Total investments to be financed | B3: ='I) Investments'!C14 -> 0
A4: Total costs to be financed at start-up | B4: ='I) Investments'!B41 -> 0
A5: TOTAL AMOUNT TO BE FINANCED AT START-UP: | B5: =B3+B4 -> 0
A8: Financing | B8: Amount
A9: Personal contribution: money
A10: Personal contribution in kind | B10: ='I) Investments'!C13 -> 0
A11: A) Loan from family members, acquaintances, etc.
A12: B) Bank loan
A13: C) Loan PMV
A14: TOTAL FUNDING AT START-UP: | B14: =SUM(B9:B13) -> 0
A15: Total financing MUST be at least equal to the total amount to be financed!
A18: DETAIL FINANCING
A20: A) Loan from family members, acquaintances, etc.
A21: Total amount | B21: =B11 -> 0
A22: Term in years
A23: Interest rate* (in %) | B23: 0
A24: Repayment (principal + interest) Year 1 | B24: =IF(B22=0,0,B21/B22+B21*B23) -> 0
A25: Repayment (principal + interest) Year 2 | B25: =B24 -> 0
A26: *minimum of 1% and maximum of 2%
A28: B) Bank loan
A29: Total amount | B29: =B12 -> 0
A30: Term in years
A31: Interest rate* (in %)
A32: Repayment (principal + interest) Year 1 | B32: =IF(B30=0,0,B29*B31+B29/B30) -> 0
A33: Repayment (principal + interest) Year 2 | B33: =B32 -> 0
A35: C) Loan PMV
A36: Total amount | B36: =B13 -> 0
A37: Term in years
A38: Interest rate* (in %) | B38: 0.03
A39: Repayment (principal + interest) Year 1 | B39: =B36*B38 -> 0
A40: Repayment (principal + interest) Year 2 | B40: =IF(B37=0,0,B36*B38+B36/B37) -> 0

Sheet III) Revenue & variable costs
A1: III) REVENUE & VARIABLE COSTS
A3: ='I) Investments'!A3 -> Year 1
J4: Option service providers
A5: Products and services | B5: # per year | C5: PP/piece* | D5: SP/piece* | E5: Variable costs | F5: Revenu | G5: Gross profit margin | H5: Share of revenu | J5: # hours / service | K5: Profit / hour
E6: =B6*C6 -> 0 | F6: =B6*D6 -> 0 | G6: =IF(F6=0,0,1-E6/F6) -> 0 | H6: =IF(F6=0,0,F6/$F$14) -> 0 | I6: =G6*H6 -> 0 | J6: 0 | K6: =IF(J6=0,0,(D6-C6)*J6) -> 0
E7: =B7*C7 -> 0 | F7: =B7*D7 -> 0 | G7: =IF(F7=0,0,1-E7/F7) -> 0 | H7: =IF(F7=0,0,F7/$F$14) -> 0 | I7: =G7*H7 -> 0 | J7: 0 | K7: =IF(J7=0,0,(D7-C7)*J7) -> 0
E8: =B8*C8 -> 0 | F8: =B8*D8 -> 0 | G8: =IF(F8=0,0,1-E8/F8) -> 0 | H8: =IF(F8=0,0,F8/$F$14) -> 0 | I8: =G8*H8 -> 0 | J8: 0 | K8: =IF(J8=0,0,(D8-C8)*J8) -> 0
E9: =B9*C9 -> 0 | F9: =B9*D9 -> 0 | G9: =IF(F9=0,0,1-E9/F9) -> 0 | H9: =IF(F9=0,0,F9/$F$14) -> 0 | I9: =G9*H9 -> 0 | J9: 0 | K9: =IF(J9=0,0,(D9-C9)*J9) -> 0
E10: =B10*C10 -> 0 | F10: =B10*D10 -> 0 | G10: =IF(F10=0,0,1-E10/F10) -> 0 | H10: =IF(F10=0,0,F10/$F$14) -> 0 | I10: =G10*H10 -> 0 | J10: 0 | K10: =IF(J10=0,0,(D10-C10)*J10) -> 0
E11: =B11*C11 -> 0 | F11: =B11*D11 -> 0 | G11: =IF(F11=0,0,1-E11/F11) -> 0 | H11: =IF(F11=0,0,F11/$F$14) -> 0 | I11: =G11*H11 -> 0 | J11: 0 | K11: =IF(J11=0,0,(D11-C11)*J11) -> 0
E12: =B12*C12 -> 0 | F12: =B12*D12 -> 0 | G12: =IF(F12=0,0,1-E12/F12) -> 0 | H12: =IF(F12=0,0,F12/$F$14) -> 0 | I12: =G12*H12 -> 0 | J12: 0 | K12: =IF(J12=0,0,(D12-C12)*J12) -> 0
E13: =B13*C13 -> 0 | F13: =B13*D13 -> 0 | G13: =IF(F13=0,0,1-E13/F13) -> 0 | H13: =IF(F13=0,0,F13/$F$14) -> 0 | I13: =G13*H13 -> 0 | J13: 0 | K13: =IF(J13=0,0,(D13-C13)*J13) -> 0
C14: * EXCLUSIEF btw! | E14: =SUM(E6:E13) -> 0 | F14: =SUM(F6:F13) -> 0
A16: ='I) Investments'!A17 -> Year 2
J17: Option service providers
A18: Products and services | B18: # per year | C18: PP/piece* | D18: SP/piece* | E18: Variable costs | F18: Revenu | G18: Gross profit margin | H18: Share of revenu | J18: # hours / service | K18: Profit / hour
E19: =B19*C19 -> 0 | F19: =B19*D19 -> 0 | G19: =IF(F19=0,0,1-E19/F19) -> 0 | H19: =IF(F19=0,0,F19/$F$27) -> 0 | I19: =G19*H19 -> 0 | J19: 0 | K19: =IF(J19=0,0,(D19-C19)*J19) -> 0
E20: =B20*C20 -> 0 | F20: =B20*D20 -> 0 | G20: =IF(F20=0,0,1-E20/F20) -> 0 | H20: =IF(F20=0,0,F20/$F$27) -> 0 | I20: =G20*H20 -> 0 | J20: 0 | K20: =IF(J20=0,0,(D20-C20)/J20) -> 0
E21: =B21*C21 -> 0 | F21: =B21*D21 -> 0 | G21: =IF(F21=0,0,1-E21/F21) -> 0 | H21: =IF(F21=0,0,F21/$F$27) -> 0 | I21: =G21*H21 -> 0 | J21: 0 | K21: =IF(J21=0,0,(D21-C21)/J21) -> 0
E22: =B22*C22 -> 0 | F22: =B22*D22 -> 0 | G22: =IF(F22=0,0,1-E22/F22) -> 0 | H22: =IF(F22=0,0,F22/$F$27) -> 0 | I22: =G22*H22 -> 0 | J22: 0 | K22: =IF(J22=0,0,(D22-C22)/J22) -> 0
E23: =C23*B23 -> 0 | F23: =D23*B23 -> 0 | G23: =IF(F23=0,0,1-E23/F23) -> 0 | H23: =IF(F23=0,0,F23/$F$27) -> 0 | I23: =G23*H23 -> 0 | J23: 0 | K23: =IF(J23=0,0,(D23-C23)/J23) -> 0
E24: =C24*B24 -> 0 | F24: =D24*B24 -> 0 | G24: =IF(F24=0,0,1-E24/F24) -> 0 | H24: =IF(F24=0,0,F24/$F$27) -> 0 | I24: =G24*H24 -> 0 | J24: 0 | K24: =IF(J24=0,0,(D24-C24)/J24) -> 0
E25: =C25*B25 -> 0 | F25: =D25*B25 -> 0 | G25: =IF(F25=0,0,1-E25/F25) -> 0 | H25: =IF(F25=0,0,F25/$F$27) -> 0 | I25: =G25*H25 -> 0 | J25: 0 | K25: =IF(J25=0,0,(D25-C25)/J25) -> 0
E26: =C26*B26 -> 0 | F26: =D26*B26 -> 0 | G26: =IF(F26=0,0,1-E26/F26) -> 0 | H26: =IF(F26=0,0,F26/$F$27) -> 0 | I26: =G26*H26 -> 0 | J26: 0 | K26: =IF(J26=0,0,(D26-C26)/J26) -> 0
C27: * EXCLUSIEF btw! | E27: =SUM(E19:E26) -> 0 | F27: =SUM(F19:F26) -> 0
N142: Kleding
B455: > Belettering wagen (in latere fase)
B457: > Gevel identificatie (in latere fase)

Sheet List of costs (for information)
A1: COSTS | B1: Fixed cost | C1: Variable cost | D1: Monthly amount | E1: Annual amount
A3: PREPARATION
A4: Registration CBE/VAT
A5: Specific permits (FAVV, Unisono, registration, etc.)
A6: Prototype costs
A7: Publication in the Belgian Official Gazette
A8: Notary costs
A9: Fees (lawyer, architect)
A10: Start-up costs for bookkeeper/accountant
A11: Professional association membership
A12: Price certificates
A13: Other
A15: ADMINISTRATIVE/IT
... A125: Driver's license

Sheet IV) Fixed Costs
A1: IV) FIXED COSTS
B3: ='I) Investments'!A3 -> Year 1 | C3: ='I) Investments'!A17 -> Year 2
A4: TOTAL FIXED COSTS | B4: =B6+B53+B61+B63+B70 -> 2792.2 | C4: =C6+C53+C61+C63+C70 -> 2792.2
B5: =B7+B10+B16+B27+B34+B39+B53+B61+B63+B70 -> 0 | C5: =C7+C10+C16+C27+C34+C39+C53+C61+C63+C70 -> 0
A6: SERVICES AND MISCELLANEOUS GOODS | B6: =B7+B10+B16+B27+B34+B39+B49+B51 -> 2792.2 | C6: =C7+C10+C16+C27+C34+C39+C49+C51 -> 2792.2
A7: Rent and rental charges | B7: =SUM(B8:B9) -> 0 | C7: =SUM(C8:C9) -> 0
A8: Rent
A9: Rental charges
A10: Maintenance and repairs | B10: =SUM(B11:B15) -> 0 | C10: =SUM(C11:C15) -> 0
A11: Buildings
A12: Machines
A13: Interior design
A14: Rolling stock
A15: Others :
A16: Deliveries to the business | B16: =SUM(B17:B26) -> 0 | C16: =SUM(C17:C26) -> 0
A17: Consumption costs (electricity, gas, water)
A18: Public transport/car sharing
A19: Fuel
A20: Small tools
A21: Office supplies
A22: Stamps
A23: Telephone and fax
A24: Mobile phone
A25: Internet
A26: Others :
A27: Insurance | B27: =SUM(B28:B33) -> 0 | C27: =SUM(C28:C33) -> 0
A28: Fire insurance
A29: Car insurance
A30: Theft insurance
A31: Professional liability insurance
A32: Guaranteed income
A33: Voluntary supplementary pension
A34: Payments to third parties | B34: =SUM(B35:B38) -> 0 | C34: =SUM(C35:C38) -> 0
A35: Start-up costs (business counter, notary, etc.)
A36: Accountant's fee
A37: External training courses
A38: Memberships (Service Clubs, Associations, etc.)
A39: Marketing- en reclamekosten | B39: =SUM(B40:B48) -> 0 | C39: =SUM(C40:C48) -> 0
A40: Advertisements
A41: Catalogue, printed matter
...

Sheet V) Disallowed Expenses
A1: V) DISALLOWED EXPENSES
A3: Year 1
A4: Description of costs | B4: Total amount | C4: % Deductible | D4: % Non-deductible | E4: Rejected amount
A5: Car expenses | B5: ='IV) Fixed Costs'!B19+'I) Investments'!F12+'IV) Fixed Costs'!B29 + 'IV) Fixed Costs'!B64 -> 0 | C5: 0.75 | D5: =100%-C5 -> 0.25 | E5: =D5*B5 -> 0
A6: Restaurant expenses | B6: ='IV) Fixed Costs'!B46 -> 0 | C6: 0.69 | D6: =100%-C6 -> 0.31 | E6: =D6*B6 -> 0
A7: Hospitality and reception expenses | B7: ='IV) Fixed Costs'!B47 -> 0 | C7: 0.5 | D7: =100%-C7 -> 0.5 | E7: =D7*B7 -> 0
A8: Corporate gifts | B8: ='IV) Fixed Costs'!B44 -> 0 | C8: 0.5 | D8: =100%-C8 -> 0.5 | E8: =D8*B8 -> 0
D10: TOTAL | E10: =SUM(E5:E9) -> 0
A12: Year 2
A13: Description of costs | B13: Total amount | C13: % Deductible | D13: % Non-deductible | E13: Rejected amount
A14: Car expenses | B14: ='IV) Fixed Costs'!C19+'I) Investments'!F26+'IV) Fixed Costs'!C29 + 'IV) Fixed Costs'!C64 -> 0 | C14: 0.75 | D14: =100%-C14 -> 0.25 | E14: =D14*B14 -> 0
A15: Restaurant expenses | B15: ='IV) Fixed Costs'!C46 -> 0 | C15: 0.69 | D15: =100%-C15 -> 0.31 | E15: =D15*B15 -> 0
A16: Hospitality and reception expenses | B16: ='IV) Fixed Costs'!C47 -> 0 | C16: 0.5 | D16: =100%-C16 -> 0.5 | E16: =D16*B16 -> 0
A17: Corporate gifts | B17: ='IV) Fixed Costs'!C44 -> 0 | C17: 0.5 | D17: =100%-C17 -> 0.5 | E17: =D17*B17 -> 0
D19: TOTAL | E19: =SUM(E14:E18) -> 0
N158: Kleding
B471: > Belettering wagen (in latere fase)
B473: > Gevel identificatie (in latere fase)

Sheet VI) Income Statement
A1: VI) Income statement | B1: Year 1 | C1: Year 2
A3: OPERATING REVENUES | B3: =B4 -> 0 | C3: =SUM(C4:C4) -> 0
A4: Revenu | B4: =+'III) Revenue & variable costs'!F14 -> 0 | C4: =+'III) Revenue & variable costs'!F27 -> 0
A6: - VARIABLE COSTS | B6: =SUM(B7) -> 0 | C6: =SUM(C7) -> 0
A7: Merchandise, raw materials and consumables | B7: =+'III) Revenue & variable costs'!E14 -> 0 | C7: =+'III) Revenue & variable costs'!E27 -> 0
A9: = GROSS MARGIN | B9: =B3-B6 -> 0 | C9: =C3-C6 -> 0
A10: Average gross margin | B10: =IF(B3=0,"",B9/B3) | C10: =IF(C3=0,"",C9/C3)
A12: - FIXED COSTS | B12: =SUM(B13:B16) -> 2792.2 | C12: =SUM(C13:C16) -> 2792.2
A13: Services and miscellaneous goods | B13: ='IV) Fixed Costs'!B6 -> 2792.2 | C13: ='IV) Fixed Costs'!C6+'IV) Fixed Costs'!D6 -> 2792.2
A14: Personnel costs | B14: ='IV) Fixed Costs'!B53 -> 0 | C14: ='IV) Fixed Costs'!C53 -> 0
A15: Depreciation | B15: ='IV) Fixed Costs'!B61 -> 0 | C15: ='IV) Fixed Costs'!C61 -> 0
A16: Other operating expenses | B16: ='IV) Fixed Costs'!B63 -> 0 | C16: ='IV) Fixed Costs'!C63 -> 0
A18: COMPANY RESULT | B18: =B3-B6-B12 -> -2792.2 | C18: =C3-C6-C12 -> -2792.2
A19: financiel products
A20: financiel costs | B20: ='IV) Fixed Costs'!B70 -> 0 | C20: ='IV) Fixed Costs'!C70 -> 0
A22: RESULT BEFORE TAKS | B22: =B18+B19-B20 -> -2792.2 | C22: =C18+C19-C20 -> -2792.2
A23: disallowed expenses | B23: ='V) Disallowed Expenses'!E10 -> 0 | C23: ='V) Disallowed Expenses'!E19 -> 0
A25: TOTAL SUBJECT TO TAKS | B25: =IF(B22>0,B22+B23,B23) -> 0 | C25: =IF(C22>0,C22+C23,C23) -> 0
A26: Taxes on the result | B26: ='VII) Taxes'!C21 -> 0 | C26: ='VII) Taxes'!G21 -> 0
A28: Taxes on the result | B28: =B22-B26 -> -2792.2 | C28: =C22-C26 -> -2792.2
A29: Depreciation | B29: =B15 -> 0 | C29: =C15 -> 0
A30: Capital repayment | B30: =-(IF('II) Financing'!B22=0,0,'II) Financing'!B21/'II) Financing'!B22)+(IF('II) Financing'!B30=0,0,'II) Financing'!B29/'II) Financing'!B30))) -> 0 | C30: =(+'II) Financing'!B25+'II) Financing'!B33+'II) Financing'!B40)-'IV) Fixed Costs'!C71 -> 0
A32: CASH FLOW FOR THE FINANCIAL YEAR | B32: =B28+B29+B30 -> -2792.2 | C32: =C28+C15+C30 -> -2792.2
A34: Monthly average for personal expenses and investments | B34: =B32/12 -> -232.68333 | C34: =C32/12 -> -232.68333

Sheet VII) Taxes
A1: VII) TAXES (simulation) for sole proprietorships only
A3: TAX BRACKETS AY 2025
A4: From | B4: to | C4: Amount | D4: Rate
A5: 0 | B5: 16320 | C5: 0 | D5: 0
A6: =B5 -> 16320 | B6: 28800 | C6: 0.25 | D6: =(B6-A6)*C6 -> 3120
A7: =B6 -> 28800 | B7: 49840 | C7: 0.4 | D7: =(B7-A7)*C7 -> 8416
A8: =+B7 -> 49840 | B8: and more | C8: 0.5
A12: Scenario Year 1 | E12: Scenario Year 2
A13: To be charged | C13: ='VI) Income Statement'!B25 -> 0 | E13: To be charged | G13: ='VI) Income Statement'!C25 -> 0
A15: From | B15: to | E15: From | F15: to
A16: =A5 -> 0 | B16: =B5 -> 16320 | C16: 0 | E16: =A5 -> 0 | F16: =B5 -> 16320 | G16: 0
A17: =A6 -> 16320 | B17: =IF($C$13<A17,A17,IF($C$13<B6,$C$13,B6)) -> 16320 | C17: =(B17-A17)*C6 -> 0 | E17: =A6 -> 16320 | F17: =IF($G$13<E17,E17,IF($G$13<B6,$G$13,B6)) -> 16320 | G17: =(F17-E17)*C6 -> 0
A18: =A7 -> 28800 | B18: =IF($C$13<A18,A18,IF($C$13<B7,$C$13,B7)) -> 28800 | C18: =(B18-A18)*C7 -> 0 | E18: =A7 -> 28800 | F18: =IF($G$13<E18,E18,IF($G$13<B7,$G$13,B7)) -> 28800 | G18: =(F18-E18)*C7 -> 0
A19: =A8 -> 49840 | B19: =IF($C$13<A19,A19,IF($C$13<B8,$C$13,B8)) -> 49840 | C19: =(B19-A19)*C8 -> 0 | E19: =A8 -> 49840 | F19: =IF($G$13<E19,E19,IF($G$13<B8,$G$13,B8)) -> 49840 | G19: =(F19-E19)*C8 -> 0
A21: Taxes | C21: =SUM(C16:C20) -> 0 | E21: Taxes | G21: =SUM(G16:G20) -> 0
A23: This personal income tax calculation does not take into account the specific situation of
A24: the entrepreneur (e.g., dependent children, pension savings, …)
N151: Kleding
B464: > Belettering wagen (in latere fase)
B466: > Gevel identificatie (in latere fase)

Sheet VIII) Break-Even Turnover
A1: VIII) BREAK-EVEN TURNOVER
E2: ='I) Investments'!A3 -> Year 1 | F2: ='I) Investments'!A17 -> Year 2
A4: How much do you want to earn gross per month?
A6: Net*, that becomes: | E6: ='Fiscal break-even point'!C21/12 -> 0 | F6: ='Fiscal break-even point'!G21/12 -> 0
A7: This personal income tax calculation does not take into account the entrepreneur's specific situation (e.g., dependent children, pension savings, etc.).
A9: Break-even turnover (per year) | E9: =('VI) Income Statement'!B12-'VI) Income Statement'!B30+12*'VIII) Break-Even Turnover'!E4+('VIII) Break-Even Turnover'!E4*12*0.205-'IV) Fixed Costs'!B49)-'VI) Income Statement'!B15+'VI) Income Statement'!B20)/SUM('III) Revenue & variable costs'!I6:I13) -> #DIV/0! | F9: =('VI) Income Statement'!C12-'VI) Income Statement'!C30+12*'VIII) Break-Even Turnover'!F4+(F4*12*0.205-'IV) Fixed Costs'!C49)-'VI) Income Statement'!C15+'VI) Income Statement'!C20)/SUM('III) Revenue & variable costs'!I19:I26) -> #DIV/0! | H9: =+'III) Revenue & variable costs'!F14 -> 0 | I9: =+'III) Revenue & variable costs'!F27 -> 0 | J9: Revenue forecast
H10: Year 1 | I10: Year 2
A11: TIME SPENT
A13: Number of months of business activity per year | E13: 0
A14: Number of weeks of business activity per year | E14: 0
A15: Number of days of business activity per week | E15: 0
A18: BREAK-EVEN SALES YEAR 1 AS OF:
E20: Product | G20: Year | H20: Month | I20: Week | J20: Day | K20: units/month | L20: units/day
E21: ='III) Revenue & variable costs'!A6 -> 0 | G21: =$E$9*'III) Revenue & variable costs'!H6 -> #DIV/0! | H21: =$A$25*'III) Revenue & variable costs'!H6 -> #DIV/0! | I21: =$B$25*'III) Revenue & variable costs'!H6 -> #DIV/0! | J21: =$C$25*'III) Revenue & variable costs'!H6 -> #DIV/0! | K21: =IF(E21=0,0,H21/'III) Revenue & variable costs'!D6) -> 0 | L21: =IF(E21=0,0,J21/'III) Revenue & variable costs'!D6) -> 0
E22: ='III) Revenue & variable costs'!A7 -> 0 | G22: =$E$9*'III) Revenue & variable costs'!H7 -> #DIV/0! | H22: =$A$25*'III) Revenue & variable costs'!H7 -> #DIV/0! | I22: =$B$25*'III) Revenue & variable costs'!H7 -> #DIV/0! | J22: =$C$25*'III) Revenue & variable costs'!H7 -> #DIV/0! | K22: =IF(E22=0,0,H22/'III) Revenue & variable costs'!D7) -> 0 | L22: =IF(E22=0,0,J22/'III) Revenue & variable costs'!D7) -> 0
A23: Year 1 - Break-even sales by: | E23: ='III) Revenue & variable costs'!A8 -> 0 | G23: =$E$9*'III) Revenue & variable costs'!H8 -> #DIV/0! | H23: =$A$25*'III) Revenue & variable costs'!H8 -> #DIV/0! | I23: =$B$25*'III) Revenue & variable costs'!H8 -> #DIV/0! | J23: =$C$25*'III) Revenue & variable costs'!H8 -> #DIV/0! | K23: =IF(E23=0,0,H23/'III) Revenue & variable costs'!D8) -> 0 | L23: =IF(E23=0,0,J23/'III) Revenue & variable costs'!D8) -> 0
A24: Month | B24: Week | C24: Day | E24: ='III) Revenue & variable costs'!A9 -> 0 | G24: =$E$9*'III) Revenue & variable costs'!H9 -> #DIV/0! | H24: =$A$25*'III) Revenue & variable costs'!H9 -> #DIV/0! | I24: =$B$25*'III) Revenue & variable costs'!H9 -> #DIV/0! | J24: =$C$25*'III) Revenue & variable costs'!H9 -> #DIV/0! | K24: =IF(E24=0,0,H24/'III) Revenue & variable costs'!D9) -> 0 | L24: =IF(E24=0,0,J24/'III) Revenue & variable costs'!D9) -> 0
A25: =E9/E13 -> #DIV/0! | B25: =E9/E14 -> #DIV/0! | C25: =E9/(E14*E15) -> #DIV/0! | E25: ='III) Revenue & variable costs'!A10 -> 0 | G25: =$E$9*'III) Revenue & variable costs'!H10 -> #DIV/0! | H25: =$A$25*'III) Revenue & variable costs'!H10 -> #DIV/0! | I25: =$B$25*'III) Revenue & variable costs'!H10 -> #DIV/0! | J25: =$C$25*'III) Revenue & variable costs'!H10 -> #DIV/0! | K25: =IF(E25=0,0,H25/'III) Revenue & variable costs'!D10) -> 0 | L25: =IF(E25=0,0,J25/'III) Revenue & variable costs'!D10) -> 0
E26: ='III) Revenue & variable costs'!A11 -> 0 | G26: =$E$9*'III) Revenue & variable costs'!H11 -> #DIV/0! | H26: =$A$25*'III) Revenue & variable costs'!H11 -> #DIV/0! | I26: =$B$25*'III) Revenue & variable costs'!H11 -> #DIV/0! | J26: =$C$25*'III) Revenue & variable costs'!H11 -> #DIV/0! | K26: =IF(E26=0,0,H26/'III) Revenue & variable costs'!D11) -> 0 | L26: =IF(E26=0,0,J26/'III) Revenue & variable costs'!D11) -> 0
E27: ='III) Revenue & variable costs'!A12 -> 0 | G27: =$E$9*'III) Revenue & variable costs'!H12 -> #DIV/0! | H27: =$A$25*'III) Revenue & variable costs'!H12 -> #DIV/0! | I27: =$B$25*'III) Revenue & variable costs'!H12 -> #DIV/0! | J27: =$C$25*'III) Revenue & variable costs'!H12 -> #DIV/0! | K27: =IF(E27=0,0,H27/'III) Revenue & variable costs'!D12) -> 0 | L27: =IF(E27=0,0,J27/'III) Revenue & variable costs'!D12) -> 0
E28: ='III) Revenue & variable costs'!A13 -> 0 | G28: =$E$9*'III) Revenue & variable costs'!H13 -> #DIV/0! | H28: =$A$25*'III) Revenue & variable costs'!H13 -> #DIV/0! | I28: =$B$25*'III) Revenue & variable costs'!H13 -> #DIV/0! | J28: =$C$25*'III) Revenue & variable costs'!H13 -> #DIV/0! | K28: =IF(E28=0,0,H28/'III) Revenue & variable costs'!D13) -> 0 | L28: =IF(E28=0,0,J28/'III) Revenue & variable costs'!D13) -> 0
A30: BREAK-EVEN SALES YEAR 2 AS OF:
E32: Product | G32: Year | H32: Month | I32: Week | J32: Day | K32: units/month | L32: units/day
E33: ='III) Revenue & variable costs'!A19 -> 0 | G33: =$F$9*'III) Revenue & variable costs'!H19 -> #DIV/0! | H33: =$A$37*'III) Revenue & variable costs'!H19 -> #DIV/0! | I33: =$B$37*'III) Revenue & variable costs'!H19 -> #DIV/0! | J33: =$C$37*'III) Revenue & variable costs'!H19 -> #DIV/0! | K33: =IF(E33=0,0,H33/'III) Revenue & variable costs'!D19) -> 0 | L33: =IF(E33=0,0,J33/'III) Revenue & variable costs'!D19) -> 0
E34: ='III) Revenue & variable costs'!A20 -> 0 | G34: =$F$9*'III) Revenue & variable costs'!H20 -> #DIV/0! | H34: =$A$37*'III) Revenue & variable costs'!H20 -> #DIV/0! | I34: =$B$37*'III) Revenue & variable costs'!H20 -> #DIV/0! | J34: =$C$37*'III) Revenue & variable costs'!H20 -> #DIV/0! | K34: =IF(E34=0,0,H34/'III) Revenue & variable costs'!D20) -> 0 | L34: =IF(E34=0,0,J34/'III) Revenue & variable costs'!D20) -> 0
A35: Year 1 - Break-even sales by: | E35: ='III) Revenue & variable costs'!A21 -> 0 | G35: =$F$9*'III) Revenue & variable costs'!H21 -> #DIV/0! | H35: =$A$37*'III) Revenue & variable costs'!H21 -> #DIV/0! | I35: =$B$37*'III) Revenue & variable costs'!H21 -> #DIV/0! | J35: =$C$37*'III) Revenue & variable costs'!H21 -> #DIV/0! | K35: =IF(E35=0,0,H35/'III) Revenue & variable costs'!D21) -> 0 | L35: =IF(E35=0,0,J35/'III) Revenue & variable costs'!D21) -> 0
A36: Month | B36: Week | C36: Day | E36: ='III) Revenue & variable costs'!A22 -> 0 | G36: =$F$9*'III) Revenue & variable costs'!H22 -> #DIV/0! | H36: =$A$37*'III) Revenue & variable costs'!H22 -> #DIV/0! | I36: =$B$37*'III) Revenue & variable costs'!H22 -> #DIV/0! | J36: =$C$37*'III) Revenue & variable costs'!H22 -> #DIV/0! | K36: =IF(E36=0,0,H36/'III) Revenue & variable costs'!D22) -> 0 | L36: =IF(E36=0,0,J36/'III) Revenue & variable costs'!D22) -> 0
A37: =F9/E13 -> #DIV/0! | B37: =F9/E14 -> #DIV/0! | C37: =F9/(E15*E14) -> #DIV/0! | E37: ='III) Revenue & variable costs'!A23 -> 0 | G37: =$F$9*'III) Revenue & variable costs'!H23 -> #DIV/0! | H37: =$A$37*'III) Revenue & variable costs'!H23 -> #DIV/0! | I37: =$B$37*'III) Revenue & variable costs'!H23 -> #DIV/0! | J37: =$C$37*'III) Revenue & variable costs'!H23 -> #DIV/0! | K37: =IF(E37=0,0,H37/'III) Revenue & variable costs'!D23) -> 0 | L37: =IF(E37=0,0,J37/'III) Revenue & variable costs'!D23) -> 0
E38: ='III) Revenue & variable costs'!A24 -> 0 | G38: =$F$9*'III) Revenue & variable costs'!H24 -> #DIV/0! | H38: =$A$37*'III) Revenue & variable costs'!H24 -> #DIV/0! | I38: =$B$37*'III) Revenue & variable costs'!H24 -> #DIV/0! | J38: =$C$37*'III) Revenue & variable costs'!H24 -> #DIV/0! | K38: =IF(E38=0,0,H38/'III) Revenue & variable costs'!D23) -> 0 | L38: =IF(E38=0,0,J38/'III) Revenue & variable costs'!D24) -> 0
E39: ='III) Revenue & variable costs'!A25 -> 0 | G39: =$F$9*'III) Revenue & variable costs'!H25 -> #DIV/0! | H39: =$A$37*'III) Revenue & variable costs'!H25 -> #DIV/0! | I39: =$B$37*'III) Revenue & variable costs'!H25 -> #DIV/0! | J39: =$C$37*'III) Revenue & variable costs'!H25 -> #DIV/0! | K39: =IF(E39=0,0,H39/'III) Revenue & variable costs'!D24) -> 0 | L39: =IF(E39=0,0,J39/'III) Revenue & variable costs'!D25) -> 0
E40: ='III) Revenue & variable costs'!A26 -> 0 | G40: =$F$9*'III) Revenue & variable costs'!H26 -> #DIV/0! | H40: =$A$37*'III) Revenue & variable costs'!H26 -> #DIV/0! | I40: =$B$37*'III) Revenue & variable costs'!H26 -> #DIV/0! | J40: =$C$37*'III) Revenue & variable costs'!H26 -> #DIV/0! | K40: =IF(E40=0,0,H40/'III) Revenue & variable costs'!D25) -> 0 | L40: =IF(E40=0,0,J40/'III) Revenue & variable costs'!D26) -> 0

Sheet IX) Dashboard
A1: IX) Dashboard – Activities of a sole proprietorship | G1: Fill in only the gray cells.
L2: Monthly personal expenses | M2: Year 1 | N2: Year 2
A3: Year: | E3: Year 1 | G3: Year 2 | L3: Cost of living** | M3: =SUM(M4:M20) -> 0 | N3: =SUM(N4:N20) -> 0
A4: Number of months | E4: 12 | G4: 12 | L4: Food products | M4: 0 | N4: 0
A5: Operating revenu | L5: Telephone | M5: 0 | N5: 0
A6: 1. Revenue (excl. VAT) | E6: ='VI) Income Statement'!B3 -> 0 | G6: ='VI) Income Statement'!C3 -> 0 | L6: Internet | M6: 0 | N6: 0
A7: 2. Purchases (excl. VAT) | E7: ='VI) Income Statement'!B6 -> 0 | G7: ='VI) Income Statement'!C6 -> 0 | L7: Insurance | M7: 0 | N7: 0
A8: 3. Gross operating result (1 - 2) | E8: =E6-E7 -> 0 | G8: =G6-G7 -> 0 | L8: … | M8: 0 | N8: 0
A9: Operating expenses | M9: 0 | N9: 0
A10: 4. Services and miscellaneous goods | E10: ='VI) Income Statement'!B13-'IV) Fixed Costs'!B49 -> 0 | G10: ='VI) Income Statement'!C13-'IV) Fixed Costs'!C49 -> 0 | M10: 0 | N10: 0
A11: 5. Salaries and social security contributions (if you employ staff) | E11: ='VI) Income Statement'!B14 -> 0 | G11: ='VI) Income Statement'!C14 -> 0 | M11: 0 | N11: 0
M12: 0 | N12: 0
A13: 6. Social security contributions – Self-employed persons | E13: ='IV) Fixed Costs'!B49 -> 2792.2 | G13: ='IV) Fixed Costs'!C49 -> 2792.2 | M13: 0 | N13: 0
A14: 7. Depreciation and impairment losses | E14: ='VI) Income Statement'!B15 -> 0 | G14: ='VI) Income Statement'!C15 -> 0 | M14: 0 | N14: 0
A15: 8. Other operating expenses | E15: ='VI) Income Statement'!B16 -> 0 | G15: ='VI) Income Statement'!C16 -> 0 | M15: 0 | N15: 0
A16: 9. Total operating expenses (4 to 8 inclusive) | E16: =E10+E11+E13+E14+E15 -> 2792.2 | G16: =G10+G11+G13+G14+G15 -> 2792.2 | M16: 0 | N16: 0
A17: 10. Net operating result (3 - 9) | E17: =E8-E16 -> -2792.2 | G17: =G8-G16 -> -2792.2 | M17: 0 | N17: 0
A18: 11. Financial expenses (interest on loans) | E18: ='VI) Income Statement'!B20 -> 0 | G18: ='VI) Income Statement'!C20 -> 0 | M18: 0 | N18: 0
A19: 12. Result from ordinary operations before tax (10-11) | E19: =E17-E18 -> -2792.2 | G19: =G17-G18 -> -2792.2 | M19: 0 | N19: 0
A20: 13. Income taks | E20: ='VI) Income Statement'!B26 -> 0 | G20: ='VI) Income Statement'!C26 -> 0 | M20: 0 | N20: 0
A21: 14. Profit/loss for the financial year (12 - 13) | E21: =E19-E20 -> -2792.2 | G21: =G19-G20 -> -2792.2 | L21: Existing loans 1 (***) | M21: 0 | N21: 0
L22: Existing loans 2 (***) | M22: 0 | N22: 0
A23: Calculation of repayment capacity | L23: Existing loans 3 (***) | M23: 0 | N23: 0
A24: Sources | L24: Service charges (***) | M24: 0 | N24: 0
A25: Cash flow (= item 14 + item 7) | E25: =E21+E14 -> -2792.2 | G25: =G21+G14 -> -2792.2 | L25: Other project-related loans – Bank loan' | M25: ='II) Financing'!B32/12 -> 0 | N25: ='II) Financing'!B33/12 -> 0
A26: Interest on start-up costs (*) | H26: Included under heading 11 | L26: Other project-related loans – loan' | M26: ='II) Financing'!B24/12 -> 0 | N26: ='II) Financing'!B25/12 -> 0
L27: Other project-related loans – Loan …' | M27: 0 | N27: 0
A28: Total resources | E28: =SUM(E25:E27) -> -2792.2 | G28: =SUM(G25:G27) -> -2792.2 | L28: TOTAL | M28: =M3+M21+M22+M23+M24+M25+M26+M27 -> 0 | N28: =N3+N21+N22+N23+N24+N25+N26+N27 -> 0
K29: (**) | L29: Minimum of €12,000 for a single person – minimum of €14,400 for a couple.
A30: expenditure | K30: (***) | L30: Single applicants or loans exclusively in the applicant's name: 100% of the costs
A31: living expenses (**) | E31: =IF(M3*12>12000,M3*12,12000) -> 12000 | G31: =IF(N3*12>12000,N3*12,12000) -> 12000 | L31: Partners — the other partner has their own income: 50% of the costs
A32: Start-up loan (principal + interest) | E32: ='VI) Income Statement'!B30 -> 0 | G32: ='VI) Income Statement'!C30 -> 0 | H32: Interest included under item 11 | L32: Partners — the other partner has no own income: 100% of the costs
A33: Existing loans 1 (***) | E33: =M21*12 -> 0 | G33: =N21*12 -> 0
A34: Existing loans 2 (***) | E34: =M22*12 -> 0 | G34: =N22*12 -> 0
A35: Existing loans 3 (***) | E35: =M23*12 -> 0 | G35: =N23*12 -> 0
A36: Rental costs (***) | E36: =M24*12 -> 0 | G36: =N24*12 -> 0
A37: Other project-related loans -1 | E37: =M25*12 -> 0 | G37: =N25*12 -> 0
A38: Other project-related loans -2 | E38: =M26*12 -> 0 | G38: =N26*12 -> 0
A39: Other project-related loans -3 | E39: =M27*12 -> 0 | G39: =N27*12 -> 0
A41: Totals expenditure | E41: =SUM(E31:E40) -> 12000 | G41: =SUM(G31:G40) -> 12000
...

Sheet X) Cash Flow Statement
A1: Cash flow statement | B1: Month 1 | C1: Month 2 | D1: Month 3 | E1: Month 4 | F1: Month 5 | G1: Month 6 | H1: Month 7 | I1: Month 8 | J1: Month 9 | K1: Month 10 | L1: Month 11 | M1: Month 12 | N1: Total
A2: Opening balance | B2: ='II) Financing'!B9+'II) Financing'!B11+'II) Financing'!B13+'II) Financing'!B12 -> 0 | C2: =B94 -> 0 | D2: =C94 -> 0 | E2: =D94 -> 0 | F2: =E94 -> 0 | G2: =F94 -> 0 | H2: =G94 -> 0 | I2: =H94 -> 0 | J2: =I94 -> 0 | ... M2: =L94 -> 0
A4: Gross margin (including VAT) | B4: =B5 -> 0 | C4: =C5 -> 0 | D4: =D5 -> 0 | E4: =E5 -> 0 | F4: =F5 -> 0 | G4: =G5 -> 0 | H4: =H5 -> 0 | I4: =I5 -> 0 | ... N4: =N5 -> 0
A5: Gross margin | N5: =('VI) Income Statement'!B4-'VI) Income Statement'!B7)*1.21 -> 0
A7: Expenditure including VAT | B7: =B8+B52+B60+B67+B72+B88+B86+B83 -> 0 | C7: =C8+C52+C60+C67+C72+C88+C86 -> 0 | D7: =D8+D52+D60+D67+D72+D88+D86 -> 0 | E7: =E8+E52+E60+E67+E72+E88+E86 -> 0 | F7: =F8+F52+F60+F67+F72+F88+F86 -> 0 | G7: =G8+G52+G60+G67+G72+G88+G86 -> 0 | H7: =H8+H52+H60+H67+H72+H88+H86 -> 0 | I7: =I8+I52+I60+I67+I72+I88+I86 -> 0 | J7: =J8+J52+J60+J67+J72+J88+J86 -> 0 | ... N7: =N8+N52+N60+N67+N72+N88+N86 -> #REF!
A8: 61 Miscellaneous services and goods | B8: =B9+B12+B18+B28+B35+B40+B49+B50 -> 0 | C8: =C9+C12+C18+C28+C35+C40+C49+C50 -> 0 | D8: =D9+D12+D18+D28+D35+D40+D49+D50 -> 0 | E8: =E9+E12+E18+E28+E35+E40+E49+E50 -> 0 | F8: =F9+F12+F18+F28+F35+F40+F49+F50 -> 0 | G8: =G9+G12+G18+G28+G35+G40+G49+G50 -> 0 | H8: =H9+H12+H18+H28+H35+H40+H49+H50 -> 0 | I8: =I9+I12+I18+I28+I35+I40+I49+I50 -> 0 | ... M8: =M9+M12+M18+M28+M35+M40+M49+M50 -> 0 | N8: =N9+N12+N18+N28+N35+N40+N49 -> 2792.2
A9: Rent and service charges | B9: =SUM(B10:B11) -> 0 | C9: =SUM(C10:C11) -> 0 | D9: =SUM(D10:D11) -> 0 | E9: =SUM(E10:E11) -> 0 | F9: =SUM(F10:F11) -> 0 | G9: =SUM(G10:G11) -> 0 | H9: =SUM(H10:H11) -> 0 | I9: =SUM(I10:I11) -> 0 | ... N9: =SUM(N10:N11) -> 0
A10: Rent | N10: ='IV) Fixed Costs'!B8 -> 0
A11: Service charges | N11: ='IV) Fixed Costs'!B9 -> 0
A12: Maintenance and repair | B12: =SUM(B13:B17) -> 0 | C12: =SUM(C13:C17) -> 0 | D12: =SUM(D13:D17) -> 0 | E12: =SUM(E13:E17) -> 0 | F12: =SUM(F13:F17) -> 0 | G12: =SUM(G13:G17) -> 0 | H12: =SUM(H13:H17) -> 0 | I12: =SUM(I13:I17) -> 0 | ... N12: =SUM(N13:N17) -> 0
A13: Buildings | N13: ='IV) Fixed Costs'!B11*1.21 -> 0
A14: Machines | N14: ='IV) Fixed Costs'!B12*1.21 -> 0
A15: Interior design | N15: ='IV) Fixed Costs'!B13*1.21 -> 0
A16: Rolling stock | N16: ='IV) Fixed Costs'!B14*1.21 -> 0
A17: Other: | N17: ='IV) Fixed Costs'!B15*1.21 -> 0
A18: Business Supplies | B18: =SUM(B19:B27) -> 0 | C18: =SUM(C19:C27) -> 0 | D18: =SUM(D19:D27) -> 0 | E18: =SUM(E19:E27) -> 0 | F18: =SUM(F19:F27) -> 0 | G18: =SUM(G19:G27) -> 0 | H18: =SUM(H19:H27) -> 0 | I18: =SUM(I19:I27) -> 0 | ... N18: =SUM(N19:N27) -> 0
A19: Consumption (water / gas / electricity) | N19: ='IV) Fixed Costs'!B17*1.21 -> 0
A20: Fuel for vehicles | N20: ='IV) Fixed Costs'!B19 -> 0
A21: Small tools | N21: ='IV) Fixed Costs'!B20*1.21 -> 0
A22: Office supplies | N22: ='IV) Fixed Costs'!B21*1.21 -> 0
A23: Stamps | N23: ='IV) Fixed Costs'!B22*1.21 -> 0
A24: Telephone and fax | N24: ='IV) Fixed Costs'!B23*1.21 -> 0
A25: Mobile phone | N25: ='IV) Fixed Costs'!B24*1.21 -> 0
A26: Internet | N26: ='IV) Fixed Costs'!B25*1.21 -> 0
A27: Other: | N27: ='IV) Fixed Costs'!B26*1.21 -> 0
A28: Insurance | B28: =SUM(B29:B34) -> 0 | C28: =SUM(C29:C34) -> 0 | D28: =SUM(D29:D34) -> 0 | E28: =SUM(E29:E34) -> 0 | F28: =SUM(F29:F34) -> 0 | G28: =SUM(G29:G34) -> 0 | H28: =SUM(H29:H34) -> 0 | I28: =SUM(I29:I34) -> 0 | ... N28: =SUM(N29:N34) -> 0
A29: Fire insurance | N29: ='IV) Fixed Costs'!B28 -> 0
A30: Car insurance | N30: ='IV) Fixed Costs'!B29 -> 0
A31: Insurance | N31: ='IV) Fixed Costs'!B30 -> 0
A32: Civil Liability | N32: ='IV) Fixed Costs'!B31 -> 0
A33: Guaranteed income | N33: ='IV) Fixed Costs'!B32 -> 0
A34: Voluntary Supplementary Pension | N34: ='IV) Fixed Costs'!B33 -> 0
A35: Third-party costs | B35: =SUM(B36:B39) -> 0 | C35: =SUM(C36:C39) -> 0 | D35: =SUM(D36:D39) -> 0 | E35: =SUM(E36:E39) -> 0 | F35: =SUM(F36:F39) -> 0 | G35: =SUM(G36:G39) -> 0 | H35: =SUM(H36:H39) -> 0 | I35: =SUM(I36:I39) -> 0 | ... N35: =SUM(N36:N39) -> 0
A36: Start-up costs (business counter, notary, etc.) | N36: ='IV) Fixed Costs'!B35*1.21 -> 0
A37: Accountant's salary | N37: ='IV) Fixed Costs'!B36*1.21 -> 0
A38: External training courses | N38: ='IV) Fixed Costs'!B37*1.21 -> 0
A39: Memberships (club, association, …) | N39: ='IV) Fixed Costs'!B38*1.21 -> 0
A40: Marketing and advertising costs | B40: =SUM(B41:B48) -> 0 | C40: =SUM(C41:C48) -> 0 | D40: =SUM(D41:D48) -> 0 | E40: =SUM(E41:E48) -> 0 | F40: =SUM(F41:F48) -> 0 | G40: =SUM(G41:G48) -> 0 | H40: =SUM(H41:H48) -> 0 | I40: =SUM(I41:I48) -> 0 | ... N40: =SUM(N41:N48) -> 0
A41: Announcements | N41: ='IV) Fixed Costs'!B40*1.21 -> 0
A42: Catalogues, printed matter, … | N42: ='IV) Fixed Costs'!B41*1.21 -> 0
...

Sheet Fiscal break-even point
A1: VI) Result before and after taks
A3: 2025 A.Y. Tax Bracket
A4: From | B4: to | C4: Rate | D4: Amount
A5: 0 | B5: 16320 | C5: 0 | D5: 0
A6: =B5 -> 16320 | B6: 28800 | C6: 0.25 | D6: =(B6-A6)*C6 -> 3120
A7: =B6 -> 28800 | B7: 49840 | C7: 0.4 | D7: =(B7-A7)*C7 -> 8416
A8: =+B7 -> 49840 | B8: And more | C8: 0.5
A11: Year 1 Scenario | E11: Year 2 Scenario
A12: Taxable | C12: ='VIII) Break-Even Turnover'!E4*12+'VI) Income Statement'!B23 -> 0 | E12: Taxable | G12: ='VIII) Break-Even Turnover'!F4*12+'VI) Income Statement'!C23 -> 0
A14: From | B14: to | E14: From | F14: to
A15: 0 | B15: =B5 -> 16320 | C15: 0 | E15: 0 | F15: =B15 -> 16320 | G15: 0
A16: =A6 -> 16320 | B16: =IF($C$12<A16,A16,IF($C$12<B6,$C$12,B6)) -> 16320 | C16: =(B16-A16)*C6 -> 0 | E16: =A16 -> 16320 | F16: =IF($G$12<E16,E16,IF($G$12<B6,$G$12,B6)) -> 16320 | G16: =(F16-E16)*C6 -> 0
A17: =A7 -> 28800 | B17: =IF($C$12<A17,A17,IF($C$12<B7,$C$12,B7)) -> 28800 | C17: =(B17-A17)*C7 -> 0 | E17: =A17 -> 28800 | F17: =IF($G$12<E17,E17,IF($G$12<B7,$G$12,B7)) -> 28800 | G17: =(F17-E17)*C7 -> 0
A18: =A8 -> 49840 | B18: =IF($C$12<A18,A18,IF($C$12<B8,$C$12,B8)) -> 49840 | C18: =(B18-A18)*C8 -> 0 | E18: =A18 -> 49840 | F18: =IF($G$12<E18,E18,IF($G$12<B8,$G$12,B8)) -> 49840 | G18: =(F18-E18)*C8 -> 0
A20: Taxes | C20: =SUM(C15:C19) -> 0 | E20: Taxes | G20: =SUM(G15:G19) -> 0
A21: Net | C21: =C12-C20-'VI) Income Statement'!B23 -> 0 | E21: Net | G21: =G12-G20-'VI) Income Statement'!C23 -> 0
